BEGIN:VCALENDAR
VERSION:2.0
PRODID:-//ZContent.net//ZapCalLib 1.0//EN
CALSCALE:GREGORIAN
METHOD:PUBLISH
BEGIN:VEVENT
SUMMARY:<strong>Podsumowanie i zakończenie Konferencji</strong>
DTSTART:20260425T120000
DTEND:20260425T141000
UID:<strong>Podsumowanie i zakończenie Konferencji</strong>60500_177697297
 2
DTSTAMP:20260423T193612
Description:
END:VEVENT
END:VCALENDAR
