BEGIN:VCALENDAR
VERSION:2.0
PRODID:-//ZContent.net//ZapCalLib 1.0//EN
CALSCALE:GREGORIAN
METHOD:PUBLISH
BEGIN:VEVENT
SUMMARY:Sesja II.<br />\nSesja sponsorowana
DTSTART:20260424T131500
DTEND:20260424T161000
UID:Sesja II.<br />\nSesja sponsorowana60486_1776972972
DTSTAMP:20260423T193612
Description:
END:VEVENT
END:VCALENDAR
