BEGIN:VCALENDAR
VERSION:2.0
PRODID:-//ZContent.net//ZapCalLib 1.0//EN
CALSCALE:GREGORIAN
METHOD:PUBLISH
BEGIN:VEVENT
SUMMARY:SESJA VII. Stany nagłe w neurologii
DTSTART:20260425T103000
DTEND:20260425T140000
UID:SESJA VII. Stany nagłe w neurologii54538_1776942820
DTSTAMP:20260423T111340
Description:
END:VEVENT
END:VCALENDAR
