BEGIN:VCALENDAR
VERSION:2.0
PRODID:-//ZContent.net//ZapCalLib 1.0//EN
CALSCALE:GREGORIAN
METHOD:PUBLISH
BEGIN:VEVENT
SUMMARY:SESJA VI.<strong> </strong>Neuropatie nabyte i wrodzone
DTSTART:20260425T084000
DTEND:20260425T121000
UID:SESJA VI.<strong> </strong>Neuropatie nabyte i wrodzone54529_177686480
 3
DTSTAMP:20260422T133323
Description:
END:VEVENT
END:VCALENDAR
