BEGIN:VCALENDAR
VERSION:2.0
PRODID:-//ZContent.net//ZapCalLib 1.0//EN
CALSCALE:GREGORIAN
METHOD:PUBLISH
BEGIN:VEVENT
SUMMARY:SESJA V. Choroby naczyniowe układu nerwowego
DTSTART:20260425T063000
DTEND:20260425T102000
UID:SESJA V. Choroby naczyniowe układu nerwowego54522_1776973059
DTSTAMP:20260423T193739
Description:
END:VEVENT
END:VCALENDAR
