BEGIN:VCALENDAR
VERSION:2.0
PRODID:-//ZContent.net//ZapCalLib 1.0//EN
CALSCALE:GREGORIAN
METHOD:PUBLISH
BEGIN:VEVENT
SUMMARY:Wykład otwarcia:<br />\nNajciekawsze przypadki opublikowane w "Pol
 skim Przeglądzie Neurologicznym" (2024–2025) — wybór Redaktora Nacz
 elnego
DTSTART:20260425T060000
DTEND:20260425T083000
UID:Wykład otwarcia:<br />\nNajciekawsze przypadki opublikowane w "Polskim
  Przeglądzie Neurologicznym" (2024–2025) — wybór Redaktora Naczelne
 go54521_1776943008
DTSTAMP:20260423T111648
Description:
END:VEVENT
END:VCALENDAR
