BEGIN:VCALENDAR
VERSION:2.0
PRODID:-//ZContent.net//ZapCalLib 1.0//EN
CALSCALE:GREGORIAN
METHOD:PUBLISH
BEGIN:VEVENT
SUMMARY:SESJA IV. Otępienia
DTSTART:20260424T163000
DTEND:20260424T200000
UID:SESJA IV. Otępienia54515_1776973142
DTSTAMP:20260423T193902
Description:
END:VEVENT
END:VCALENDAR
