BEGIN:VCALENDAR
VERSION:2.0
PRODID:-//ZContent.net//ZapCalLib 1.0//EN
CALSCALE:GREGORIAN
METHOD:PUBLISH
BEGIN:VEVENT
SUMMARY:SESJA III. Zaburzenia neuroimmunologiczne
DTSTART:20260424T142500
DTEND:20260424T181500
UID:SESJA III. Zaburzenia neuroimmunologiczne54506_1776973240
DTSTAMP:20260423T194040
Description:
END:VEVENT
END:VCALENDAR
