BEGIN:VCALENDAR
VERSION:2.0
PRODID:-//ZContent.net//ZapCalLib 1.0//EN
CALSCALE:GREGORIAN
METHOD:PUBLISH
BEGIN:VEVENT
SUMMARY:Otwarcie Konferencji
DTSTART:20260424T110000
DTEND:20260424T130500
UID:Otwarcie Konferencji54497_1776939782
DTSTAMP:20260423T102302
Description:
END:VEVENT
END:VCALENDAR
