BEGIN:VCALENDAR
VERSION:2.0
PRODID:-//ZContent.net//ZapCalLib 1.0//EN
CALSCALE:GREGORIAN
METHOD:PUBLISH
BEGIN:VEVENT
SUMMARY:<strong>Warsztaty</strong><br />\n<strong>GENETYKA DLA NEUROLOGA</s
 trong><br />\n- Co powinniśmy wiedzieć, kierując chorych na badania gen
 etyczne?<br />\n- Choroby genetyczne poddające się leczeniu<br />\n- Prz
 ypadki<br />\n<strong>Wykład sponsorowany firmy Biogen</strong>: Ataksja
  Friedreicha<br />\n<em>dr hab. n. med. Anna Sułek</em><br />\n<strong>Wy
 kład sponsorowany firmy Biogen:</strong> Stwardnienie zanikowe boczne<br
  />\n<em>dr hab. n. med. Magdalena Badura-Stronka</em>
DTSTART:20260424T080000
DTEND:20260424T120000
UID:<strong>Warsztaty</strong><br />\n<strong>GENETYKA DLA NEUROLOGA</stron
 g><br />\n- Co powinniśmy wiedzieć, kierując chorych na badania genetyc
 zne?<br />\n- Choroby genetyczne poddające się leczeniu<br />\n- Przypad
 ki<br />\n<strong>Wykład sponsorowany firmy Biogen</strong>: Ataksja Fri
 edreicha<br />\n<em>dr hab. n. med. Anna Sułek</em><br />\n<strong>Wykła
 d sponsorowany firmy Biogen:</strong> Stwardnienie zanikowe boczne<br />\
 n<em>dr hab. n. med. Magdalena Badura-Stronka</em>54495_1776841347
DTSTAMP:20260422T070227
Description:
END:VEVENT
END:VCALENDAR
